BEGIN:VCALENDAR
VERSION:2.0
PRODID:1º Maio
X-WR-CALNAME:1º Maio
X-WR-TIMEZONE:Europe/Lisbon
X-PUBLISHED-TTL:P1W
BEGIN:VTIMEZONE
TZID:Europe/Lisbon
X-LIC-LOCATION:Europe/Lisbon
END:VTIMEZONE
BEGIN:VEVENT
UID:69ea30594bc65
DTSTART;VALUE=DATE:20260501
SEQUENCE:0
TRANSP:OPAQUE
DTEND;VALUE=DATE:20260502
SUMMARY:1º Maio
CLASS:PUBLIC
DESCRIPTION:1º Maio
X-MICROSOFT-CDO-ALLDAYEVENT:TRUE
DTSTAMP:20260423T144441Z
END:VEVENT
END:VCALENDAR