BEGIN:VCALENDAR
VERSION:2.0
PRODID:Festival da Sopas Solidário
X-WR-CALNAME:Festival da Sopas Solidário
X-WR-TIMEZONE:Europe/Lisbon
X-PUBLISHED-TTL:P1W
BEGIN:VTIMEZONE
TZID:Europe/Lisbon
X-LIC-LOCATION:Europe/Lisbon
END:VTIMEZONE
BEGIN:VEVENT
UID:69ea30165b8d3
DTSTART;VALUE=DATE:20260426
SEQUENCE:0
TRANSP:OPAQUE
DTEND;VALUE=DATE:20260427
SUMMARY:Festival da Sopas Solidário
CLASS:PUBLIC
DESCRIPTION:Festival das Sopas Solidário
X-MICROSOFT-CDO-ALLDAYEVENT:TRUE
DTSTAMP:20260423T144334Z
END:VEVENT
END:VCALENDAR